BEGIN:VCALENDAR
VERSION:2.0
PRODID:-//wp-events-plugin.com//7.2.3.1//EN
BEGIN:VEVENT
UID:13@joakem.com
DTSTART:20230414T180000Z
DTEND:20230414T180000Z
DTSTAMP:20251120T093030Z
URL:https://joakem.com/events/a-fest-at-the-epitaph-downtown-live/
SUMMARY:A Fest at the Epitaph\, Downtown Live
DESCRIPTION:
ATTACH;FMTTYPE=image/jpeg:https://joakem.com/wp-content/uploads/2025/11/Fe
 st-at-the-Epitaph.jpg
LOCATION:Downtown Live\, Downtown Live\, Nicosia\, Cyprus
X-APPLE-STRUCTURED-LOCATION;VALUE=URI;X-ADDRESS=Downtown Live\, Nicosia\, C
 yprus;X-APPLE-RADIUS=100;X-TITLE=Downtown Live:geo:0,0
END:VEVENT
END:VCALENDAR