BEGIN:VCALENDAR
VERSION:2.0
PRODID:-//wp-events-plugin.com//7.2.3.1//EN
BEGIN:VEVENT
UID:14@joakem.com
DTSTART:20250614T180000Z
DTEND:20250614T180000Z
DTSTAMP:20251120T093233Z
URL:https://joakem.com/events/gfest-the-warehouse/
SUMMARY:GFest\, The Warehouse
DESCRIPTION:
ATTACH;FMTTYPE=image/jpeg:https://joakem.com/wp-content/uploads/2025/11/GF
 est.jpg
LOCATION:The Warehouse\, The Warehouse\, Limassol\, Cyprus
X-APPLE-STRUCTURED-LOCATION;VALUE=URI;X-ADDRESS=The Warehouse\, Limassol\, 
 Cyprus;X-APPLE-RADIUS=100;X-TITLE=The Warehouse:geo:0,0
END:VEVENT
END:VCALENDAR