BEGIN:VCALENDAR
VERSION:2.0
PRODID:-//wp-events-plugin.com//7.2.3.1//EN
BEGIN:VEVENT
UID:17@joakem.com
DTSTART:20221001T220000Z
DTEND:20221001T220000Z
DTSTAMP:20251120T093810Z
URL:https://joakem.com/events/joakem-speak-in-whispers-savino-live/
SUMMARY:Joakem & Speak in Whispers\, Savino Live
DESCRIPTION:
ATTACH;FMTTYPE=image/jpeg:https://joakem.com/wp-content/uploads/2025/11/Jo
 akem-Speak-in-Whispers.jpg
LOCATION:Savino Live\, Savino Live\, Larnaca\, Cyprus
X-APPLE-STRUCTURED-LOCATION;VALUE=URI;X-ADDRESS=Savino Live\, Larnaca\, Cyp
 rus;X-APPLE-RADIUS=100;X-TITLE=Savino Live:geo:0,0
END:VEVENT
END:VCALENDAR