BEGIN:VCALENDAR
VERSION:2.0
PRODID:-//wp-events-plugin.com//7.2.3.1//EN
BEGIN:VEVENT
UID:10@joakem.com
DTSTART:20220305T180000Z
DTEND:20220305T180000Z
DTSTAMP:20251119T075736Z
URL:https://joakem.com/events/live-at-islington-assembly-hall-with-order-o
 gan-and-windrose/
SUMMARY:Live at Islington Assembly Hall with Order Ogan and Windrose
DESCRIPTION:
ATTACH;FMTTYPE=image/jpeg:https://joakem.com/wp-content/uploads/2025/11/Or
 den-Ogan-2022-A3-London-poster.jpg
LOCATION:Islington Assembly Hall\, Islington Assembly Hall\, London\, Unite
 d Kingdom
X-APPLE-STRUCTURED-LOCATION;VALUE=URI;X-ADDRESS=Islington Assembly Hall\, L
 ondon\, United Kingdom;X-APPLE-RADIUS=100;X-TITLE=Islington Assembly Hall:
 geo:0,0
END:VEVENT
END:VCALENDAR