BEGIN:VCALENDAR
VERSION:2.0
PRODID:-//wp-events-plugin.com//7.2.3.1//EN
BEGIN:VEVENT
UID:12@joakem.com
DTSTART:20220313T210000Z
DTEND:20220313T210000Z
DTSTAMP:20251119T080154Z
URL:https://joakem.com/events/live-at-o2-forum-london-with-yngwie-malmstee
 n-and-terradown/
SUMMARY:Live at O2 Forum London with Yngwie Malmsteen and Terradown
DESCRIPTION:
ATTACH;FMTTYPE=image/jpeg:https://joakem.com/wp-content/uploads/2025/11/Yn
 gwie-M-March-724x1024-1.jpg
LOCATION:O2 Forum\, 9-17 Highgate Rd\, London\, NW5 1JY\, United Kingdom
X-APPLE-STRUCTURED-LOCATION;VALUE=URI;X-ADDRESS=9-17 Highgate Rd\, London\,
  NW5 1JY\, United Kingdom;X-APPLE-RADIUS=100;X-TITLE=O2 Forum:geo:0,0
END:VEVENT
END:VCALENDAR