BEGIN:VCALENDAR
VERSION:2.0
PRODID:-//wp-events-plugin.com//7.2.3.1//EN
BEGIN:VEVENT
UID:18@joakem.com
DTSTART:20241122T200000Z
DTEND:20241122T200000Z
DTSTAMP:20251120T094035Z
URL:https://joakem.com/events/sakis-tolis-joakem-kyklos/
SUMMARY:Sakis Tolis & Joakem\, Kyklos
DESCRIPTION:
ATTACH;FMTTYPE=image/jpeg:https://joakem.com/wp-content/uploads/2025/11/Sa
 kis-Tolis-Joakem.jpg
LOCATION:Kyklos\, Kyklos\, Limassol\, Cyprus
X-APPLE-STRUCTURED-LOCATION;VALUE=URI;X-ADDRESS=Kyklos\, Limassol\, Cyprus;
 X-APPLE-RADIUS=100;X-TITLE=Kyklos:geo:0,0
END:VEVENT
END:VCALENDAR