BEGIN:VCALENDAR
VERSION:2.0
PRODID:-//wp-events-plugin.com//7.2.3.1//EN
BEGIN:VEVENT
UID:19@joakem.com
DTSTART:20220910T000000Z
DTEND:20220911T000000Z
DTSTAMP:20251120T094351Z
URL:https://joakem.com/events/under-the-quarry-festival-athens/
SUMMARY:Under the Quarry Festival\, Athens
DESCRIPTION:
ATTACH;FMTTYPE=image/jpeg:https://joakem.com/wp-content/uploads/2025/11/Un
 der-the-Quarry-Festival.jpg
LOCATION:Quarry Festival\, Quarry Festival\, Athens\, Greece
X-APPLE-STRUCTURED-LOCATION;VALUE=URI;X-ADDRESS=Quarry Festival\, Athens\, 
 Greece;X-APPLE-RADIUS=100;X-TITLE=Quarry Festival:geo:0,0
END:VEVENT
END:VCALENDAR